{
 "currentVersion": 11.1,
 "serviceDescription": "00_PUBLICACOES/Alto_iguacu_sad69_utm22s",
 "name": "00_PUBLICACOES/Alto_iguacu_sad69_utm22s",
 "description": "",
 "extent": {
  "xmin": 619351.0099999998,
  "ymin": 7142322.327013519,
  "xmax": 705707.780681698,
  "ymax": 7208801.591143064,
  "spatialReference": {
   "wkid": 29182,
   "latestWkid": 29192
  }
 },
 "initialExtent": {
  "xmin": 619351.0099999998,
  "ymin": 7142322.327013519,
  "xmax": 705707.780681698,
  "ymax": 7208801.591143064,
  "spatialReference": {
   "wkid": 29182,
   "latestWkid": 29192
  }
 },
 "fullExtent": {
  "xmin": 619351.0099999998,
  "ymin": 7142322.327013519,
  "xmax": 705707.780681698,
  "ymax": 7208801.591143064,
  "spatialReference": {
   "wkid": 29182,
   "latestWkid": 29192
  }
 },
 "sortableFields": "",
 "bandCount": 3,
 "pixelType": "U16",
 "minValues": [
  0,
  0,
  0
 ],
 "maxValues": [
  255,
  255,
  255
 ],
 "meanValues": [
  114.89267360696,
  116.28623089605,
  97.962685740434
 ],
 "stdvValues": [
  50.715045453049,
  47.062361087513,
  45.951380961371
 ],
 "hasMultidimensions": false,
 "pixelSizeX": 0.8562637768008708,
 "pixelSizeY": 0.8656717771931186,
 "datasetFormat": "TIFF",
 "uncompressedSize": 46470036810,
 "blockWidth": 128,
 "blockHeight": 128,
 "compressionType": "LZW",
 "bandNames": [
  "Band_1",
  "Band_2",
  "Band_3"
 ],
 "allowCopy": true,
 "allowAnalysis": true,
 "itemAccess": false,
 "noDataValue": 256,
 "noDataValues": [
  256,
  256,
  256
 ],
 "minPixelSize": 0,
 "maxPixelSize": 0,
 "copyrightText": "",
 "serviceDataType": "esriImageServiceDataTypeGeneric",
 "serviceSourceType": "esriImageServiceSourceTypeDataset",
 "objectIdField": "",
 "fields": [],
 "capabilities": "Image,Metadata",
 "defaultMosaicMethod": "Center",
 "allowedMosaicMethods": "",
 "sortField": "",
 "sortValue": null,
 "sortAscending": true,
 "mosaicOperator": "First",
 "defaultCompressionQuality": 75,
 "defaultResamplingMethod": "Bilinear",
 "maxImageHeight": 4100,
 "maxImageWidth": 15000,
 "allowRasterFunction": true,
 "rasterFunctionInfos": [
  {
   "name": "None",
   "description": "",
   "help": ""
  }
 ],
 "rasterTypeInfos": [
  {
   "name": "Raster Dataset",
   "description": "Supports all ArcGIS Raster Datasets",
   "help": ""
  }
 ],
 "mensurationCapabilities": "",
 "hasHistograms": true,
 "hasColormap": false,
 "hasRasterAttributeTable": false,
 "minScale": 0,
 "maxScale": 0,
 "exportTilesAllowed": false,
 "supportsStatistics": false,
 "supportsAdvancedQueries": false,
 "editFieldsInfo": null,
 "ownershipBasedAccessControlForRasters": null,
 "allowComputeTiePoints": false,
 "useStandardizedQueries": true,
 "advancedQueryCapabilities": {
  "useStandardizedQueries": true,
  "supportsStatistics": false,
  "supportsOrderBy": false,
  "supportsDistinct": false,
  "supportsPagination": false
 },
 "spatialReference": {
  "wkid": 29182,
  "latestWkid": 29192
 }
}
