View In:
ArcGIS JavaScript
ArcGIS Online Map Viewer
ArcGIS Earth
Service Description: 00_PUBLICACOES/Alto_iguacu_sad69_utm22s
Name: 00_PUBLICACOES/Alto_iguacu_sad69_utm22s
Description:
Single Fused Map Cache: false
Extent:
XMin: 619351.0099999998
YMin: 7142322.327013519
XMax: 705707.780681698
YMax: 7208801.591143064
Spatial Reference: 29182
(29192)
Initial Extent:
XMin: 619351.0099999998
YMin: 7142322.327013519
XMax: 705707.780681698
YMax: 7208801.591143064
Spatial Reference: 29182
(29192)
Full Extent:
XMin: 619351.0099999998
YMin: 7142322.327013519
XMax: 705707.780681698
YMax: 7208801.591143064
Spatial Reference: 29182
(29192)
Pixel Size X: 0.8562637768008708
Pixel Size Y: 0.8656717771931186
Band Count: 3
Pixel Type: U16
RasterFunction Infos: {"rasterFunctionInfos": [{
"name": "None",
"description": "",
"help": ""
}]}
Mensuration Capabilities:
Has Histograms: true
Has Colormap: false
Has Multi Dimensions : false
Rendering Rule:
Min Scale: 0
Max Scale: 0
Copyright Text:
Service Data Type: esriImageServiceDataTypeGeneric
Min Values: 0, 0, 0
Max Values: 255, 255, 255
Mean Values: 114.89267360696, 116.28623089605, 97.962685740434
Standard Deviation Values: 50.715045453049, 47.062361087513, 45.951380961371
Object ID Field:
Fields:
None
Default Mosaic Method: Center
Allowed Mosaic Methods:
SortField:
SortValue: null
Mosaic Operator: First
Default Compression Quality: 75
Default Resampling Method: Bilinear
Max Record Count: null
Max Image Height: 4100
Max Image Width: 15000
Max Download Image Count: null
Max Mosaic Image Count: null
Allow Raster Function: true
Allow Copy: true
Allow Analysis: true
Allow Compute TiePoints: false
Supports Statistics: false
Supports Advanced Queries: false
Use StandardizedQueries: true
Raster Type Infos:
Name: Raster Dataset
Description: Supports all ArcGIS Raster Datasets
Help:
Has Raster Attribute Table: false
Edit Fields Info: null
Ownership Based AccessControl For Rasters: null
Child Resources:
Info
Histograms
Statistics
Key Properties
Legend
Raster Function Infos
Supported Operations:
Export Image
Identify
Compute Histograms
Compute Statistics Histograms
Get Samples
Compute Class Statistics
Query Boundary
Compute Pixel Location
Compute Angles
Validate
Project